BEGIN:VCALENDAR
VERSION:2.0
PRODID:-//ChamberMaster//Event Calendar 2.0//EN
METHOD:PUBLISH
X-PUBLISHED-TTL:P3D
REFRESH-INTERVAL:P3D
CALSCALE:GREGORIAN
BEGIN:VEVENT
DTSTART:20260720T163000Z
DTEND:20260720T183000Z
X-MICROSOFT-CDO-ALLDAYEVENT:FALSE
SUMMARY:Mobile Monday
DESCRIPTION:
X-ALT-DESC;FMTTYPE=text/html:
LOCATION:
UID:e.305.9737
SEQUENCE:3
DTSTAMP:20260425T114944Z
URL:http://huntleychamber.chambermaster.com/events/details/mobile-monday-9737
END:VEVENT

END:VCALENDAR
